BEGIN:VCALENDAR
VERSION:2.0
PRODID:-//Starlites Naxxar Basketball Club - ECPv6.15.20//NONSGML v1.0//EN
CALSCALE:GREGORIAN
METHOD:PUBLISH
X-WR-CALNAME:Starlites Naxxar Basketball Club
X-ORIGINAL-URL:https://starlitesbasketball.net
X-WR-CALDESC:Events for Starlites Naxxar Basketball Club
REFRESH-INTERVAL;VALUE=DURATION:PT1H
X-Robots-Tag:noindex
X-PUBLISHED-TTL:PT1H
BEGIN:VTIMEZONE
TZID:UTC
BEGIN:STANDARD
TZOFFSETFROM:+0000
TZOFFSETTO:+0000
TZNAME:UTC
DTSTART:20240101T000000
END:STANDARD
END:VTIMEZONE
BEGIN:VEVENT
DTSTART;VALUE=DATE:20250630
DTEND;VALUE=DATE:20250830
DTSTAMP:20260421T141625
CREATED:20250521T074856Z
LAST-MODIFIED:20250521T082004Z
UID:5552-1751317200-1756501199@starlitesbasketball.net
SUMMARY:Starlites Mini-Baskitsajf 2025
DESCRIPTION:Starlites Mini Basketball is launching again the popular Mini-Baskitsajf for children between 4 &11 years of age. We are offering our mini participants a programme of ONCE or TWICE a week sessions. The programme consists of a total of 15 sessions which are based on basketball fun & games. Mini-Baskitsajf will commence in July and will be held Tuesdays & Thursdays\, in the evenings between 5.00pm & 7.00pm. \nDownload the application from here: STARLITES MINI Baskitsajf 2025 FINAL \n  \n \nstarlitesbasketballclub
URL:https://starlitesbasketball.net/event/starlites-mini-baskitsajf-2025/
LOCATION:Maria Regina College Middle School\, Starlites Basketball Club\, Naxxar\, Malta
CATEGORIES:Activities,Programmes
ATTACH;FMTTYPE=image/png:https://starlitesbasketball.net/wp-content/uploads/2025/05/BaskitSajf.png
ORGANIZER;CN="Starlites Naxxar Basketball Club":MAILTO:contact@starlitesbasketball.net
END:VEVENT
BEGIN:VEVENT
DTSTART;VALUE=DATE:20250706
DTEND;VALUE=DATE:20250906
DTSTAMP:20260421T141625
CREATED:20250521T070245Z
LAST-MODIFIED:20250529T125112Z
UID:5549-1751835600-1757105999@starlitesbasketball.net
SUMMARY:Starlites Summer Club 2025
DESCRIPTION:https://starlitesbasketball.net/wp-content/uploads/2025/05/StarlitesSummerClub_Video.mp4\n \nstarlitesbasketballclub
URL:https://starlitesbasketball.net/event/starlites-summer-club-2025/
LOCATION:Maria Regina College Middle School\, Starlites Basketball Club\, Naxxar\, Malta
CATEGORIES:Activities,Programmes
ATTACH;FMTTYPE=image/jpeg:https://starlitesbasketball.net/wp-content/uploads/2025/05/Starlites-Summer-Club-2025.jpeg
ORGANIZER;CN="Starlites Naxxar Basketball Club":MAILTO:contact@starlitesbasketball.net
END:VEVENT
END:VCALENDAR